BEGIN:VCALENDAR
VERSION:2.0
PRODID:-//AD Valinhos - ECPv6.13.2.1//NONSGML v1.0//EN
CALSCALE:GREGORIAN
METHOD:PUBLISH
X-WR-CALNAME:AD Valinhos
X-ORIGINAL-URL:https://www.advalinhos.com.br/site
X-WR-CALDESC:Eventos para AD Valinhos
REFRESH-INTERVAL;VALUE=DURATION:PT1H
X-Robots-Tag:noindex
X-PUBLISHED-TTL:PT1H
BEGIN:VTIMEZONE
TZID:America/Sao_Paulo
BEGIN:STANDARD
TZOFFSETFROM:-0300
TZOFFSETTO:-0300
TZNAME:-03
DTSTART:20200101T000000
END:STANDARD
END:VTIMEZONE
BEGIN:VEVENT
DTSTART;TZID=America/Sao_Paulo:20201228T193000
DTEND;TZID=America/Sao_Paulo:20201228T210000
DTSTAMP:20260423T113836
CREATED:20200124T150635Z
LAST-MODIFIED:20200124T150635Z
UID:2724-1609183800-1609189200@www.advalinhos.com.br
SUMMARY:Culto Geral UFADEV
DESCRIPTION:Toda última segunda-feira do mês\, às 19:30hs
URL:https://www.advalinhos.com.br/site/evento/cultogeralufadevdez2020/
LOCATION:AD Valinhos\, Rua Vitória Colombo Rossi\, 208\, Valinhos\, São Paulo\, Brasil
CATEGORIES:eventos
END:VEVENT
BEGIN:VEVENT
DTSTART;TZID=America/Sao_Paulo:20201228T193000
DTEND;TZID=America/Sao_Paulo:20201228T210000
DTSTAMP:20260423T113836
CREATED:20200124T145104Z
LAST-MODIFIED:20200124T145104Z
UID:2713-1609183800-1609189200@www.advalinhos.com.br
SUMMARY:Reunião de Obreiros
DESCRIPTION:Toda última segunda-feira do mês\, às 19:30hs
URL:https://www.advalinhos.com.br/site/evento/reuniaodeobreirosdez2020/
LOCATION:AD Valinhos\, Rua Vitória Colombo Rossi\, 208\, Valinhos\, São Paulo\, Brasil
CATEGORIES:eventos
END:VEVENT
BEGIN:VEVENT
DTSTART;TZID=America/Sao_Paulo:20201226T190000
DTEND;TZID=America/Sao_Paulo:20201226T210000
DTSTAMP:20260423T113836
CREATED:20200124T143244Z
LAST-MODIFIED:20200124T143244Z
UID:2702-1609009200-1609016400@www.advalinhos.com.br
SUMMARY:Culto Geral UMADEV
DESCRIPTION:Todo 4º Sábado\, às 19:00hs
URL:https://www.advalinhos.com.br/site/evento/cultogeralumadevdez2020/
LOCATION:AD Valinhos\, Rua Vitória Colombo Rossi\, 208\, Valinhos\, São Paulo\, Brasil
CATEGORIES:eventos
END:VEVENT
BEGIN:VEVENT
DTSTART;TZID=America/Sao_Paulo:20201212T190000
DTEND;TZID=America/Sao_Paulo:20201212T213000
DTSTAMP:20260423T113836
CREATED:20200124T135537Z
LAST-MODIFIED:20200124T135537Z
UID:2689-1607799600-1607808600@www.advalinhos.com.br
SUMMARY:Ceia do Senhor
DESCRIPTION:A nossa Ceia do Senhor acontece sempre no 2º Sábado\, às 19:00hs no Templo Sede.
URL:https://www.advalinhos.com.br/site/evento/ceiadosenhordez2020/
LOCATION:AD Valinhos\, Rua Vitória Colombo Rossi\, 208\, Valinhos\, São Paulo\, Brasil
CATEGORIES:eventos
END:VEVENT
BEGIN:VEVENT
DTSTART;TZID=America/Sao_Paulo:20201206T090000
DTEND;TZID=America/Sao_Paulo:20201206T120000
DTSTAMP:20260423T113836
CREATED:20200124T141211Z
LAST-MODIFIED:20200124T141211Z
UID:2691-1607245200-1607256000@www.advalinhos.com.br
SUMMARY:Batismo
DESCRIPTION:“…sepultados com ele no batismo e com ele foram ressuscitados mediante a fé no poder de Deus…” Cl 2.12
URL:https://www.advalinhos.com.br/site/evento/batismodez2020/
LOCATION:AD Valinhos\, Rua Vitória Colombo Rossi\, 208\, Valinhos\, São Paulo\, Brasil
CATEGORIES:eventos
END:VEVENT
BEGIN:VEVENT
DTSTART;TZID=America/Sao_Paulo:20201130T193000
DTEND;TZID=America/Sao_Paulo:20201130T210000
DTSTAMP:20260423T113836
CREATED:20200124T150516Z
LAST-MODIFIED:20200124T150516Z
UID:2723-1606764600-1606770000@www.advalinhos.com.br
SUMMARY:Culto Geral UFADEV
DESCRIPTION:Toda última segunda-feira do mês\, às 19:30hs
URL:https://www.advalinhos.com.br/site/evento/cultogeralufadevnov2020/
LOCATION:AD Valinhos\, Rua Vitória Colombo Rossi\, 208\, Valinhos\, São Paulo\, Brasil
CATEGORIES:eventos
END:VEVENT
BEGIN:VEVENT
DTSTART;TZID=America/Sao_Paulo:20201130T193000
DTEND;TZID=America/Sao_Paulo:20201130T210000
DTSTAMP:20260423T113836
CREATED:20200124T144949Z
LAST-MODIFIED:20200124T144949Z
UID:2712-1606764600-1606770000@www.advalinhos.com.br
SUMMARY:Reunião de Obreiros
DESCRIPTION:Toda última segunda-feira do mês\, às 19:30hs
URL:https://www.advalinhos.com.br/site/evento/reuniaodeobreirosnov2020/
LOCATION:AD Valinhos\, Rua Vitória Colombo Rossi\, 208\, Valinhos\, São Paulo\, Brasil
CATEGORIES:eventos
END:VEVENT
BEGIN:VEVENT
DTSTART;TZID=America/Sao_Paulo:20201128T190000
DTEND;TZID=America/Sao_Paulo:20201128T210000
DTSTAMP:20260423T113836
CREATED:20200124T143119Z
LAST-MODIFIED:20200124T143119Z
UID:2701-1606590000-1606597200@www.advalinhos.com.br
SUMMARY:Culto Geral UMADEV
DESCRIPTION:Todo 4º Sábado\, às 19:00hs
URL:https://www.advalinhos.com.br/site/evento/cultogeralumadevnov2020/
LOCATION:AD Valinhos\, Rua Vitória Colombo Rossi\, 208\, Valinhos\, São Paulo\, Brasil
CATEGORIES:eventos
END:VEVENT
BEGIN:VEVENT
DTSTART;TZID=America/Sao_Paulo:20201114T190000
DTEND;TZID=America/Sao_Paulo:20201114T213000
DTSTAMP:20260423T113836
CREATED:20200124T135422Z
LAST-MODIFIED:20200124T135422Z
UID:2688-1605380400-1605389400@www.advalinhos.com.br
SUMMARY:Ceia do Senhor
DESCRIPTION:A nossa Ceia do Senhor acontece sempre no 2º Sábado\, às 19:00hs no Templo Sede.
URL:https://www.advalinhos.com.br/site/evento/ceiadosenhornov2020/
LOCATION:AD Valinhos\, Rua Vitória Colombo Rossi\, 208\, Valinhos\, São Paulo\, Brasil
CATEGORIES:eventos
END:VEVENT
BEGIN:VEVENT
DTSTART;TZID=America/Sao_Paulo:20201026T193000
DTEND;TZID=America/Sao_Paulo:20201026T210000
DTSTAMP:20260423T113836
CREATED:20200124T150402Z
LAST-MODIFIED:20200124T150402Z
UID:2722-1603740600-1603746000@www.advalinhos.com.br
SUMMARY:Culto Geral UFADEV
DESCRIPTION:Toda última segunda-feira do mês\, às 19:30hs
URL:https://www.advalinhos.com.br/site/evento/cultogeralufadevout2020/
LOCATION:AD Valinhos\, Rua Vitória Colombo Rossi\, 208\, Valinhos\, São Paulo\, Brasil
CATEGORIES:eventos
END:VEVENT
BEGIN:VEVENT
DTSTART;TZID=America/Sao_Paulo:20201026T193000
DTEND;TZID=America/Sao_Paulo:20201026T210000
DTSTAMP:20260423T113836
CREATED:20200124T144830Z
LAST-MODIFIED:20200124T144830Z
UID:2711-1603740600-1603746000@www.advalinhos.com.br
SUMMARY:Reunião de Obreiros
DESCRIPTION:Toda última segunda-feira do mês\, às 19:30hs
URL:https://www.advalinhos.com.br/site/evento/reuniaodeobreirosout2020/
LOCATION:AD Valinhos\, Rua Vitória Colombo Rossi\, 208\, Valinhos\, São Paulo\, Brasil
CATEGORIES:eventos
END:VEVENT
BEGIN:VEVENT
DTSTART;TZID=America/Sao_Paulo:20201024T190000
DTEND;TZID=America/Sao_Paulo:20201024T210000
DTSTAMP:20260423T113836
CREATED:20200124T142957Z
LAST-MODIFIED:20200124T142957Z
UID:2700-1603566000-1603573200@www.advalinhos.com.br
SUMMARY:Culto Geral UMADEV
DESCRIPTION:Todo 4º Sábado\, às 19:00hs
URL:https://www.advalinhos.com.br/site/evento/cultogeralumadevout2020/
LOCATION:AD Valinhos\, Rua Vitória Colombo Rossi\, 208\, Valinhos\, São Paulo\, Brasil
CATEGORIES:eventos
END:VEVENT
BEGIN:VEVENT
DTSTART;TZID=America/Sao_Paulo:20201023T193000
DTEND;TZID=America/Sao_Paulo:20201023T213000
DTSTAMP:20260423T113836
CREATED:20200124T150934Z
LAST-MODIFIED:20200124T150934Z
UID:2725-1603481400-1603488600@www.advalinhos.com.br
SUMMARY:Culto em Ação de Graças Pr. Antonio Constantino
DESCRIPTION:Culto em Ação de Graças pelo aniversário do nosso presidente\, Pr. Antonio Constantino.
URL:https://www.advalinhos.com.br/site/evento/acaodegracasprconstantino2020/
LOCATION:AD Valinhos\, Rua Vitória Colombo Rossi\, 208\, Valinhos\, São Paulo\, Brasil
CATEGORIES:eventos
END:VEVENT
BEGIN:VEVENT
DTSTART;TZID=America/Sao_Paulo:20201010T190000
DTEND;TZID=America/Sao_Paulo:20201010T213000
DTSTAMP:20260423T113836
CREATED:20200124T135304Z
LAST-MODIFIED:20200124T135304Z
UID:2687-1602356400-1602365400@www.advalinhos.com.br
SUMMARY:Ceia do Senhor
DESCRIPTION:A nossa Ceia do Senhor acontece sempre no 2º Sábado\, às 19:00hs no Templo Sede.
URL:https://www.advalinhos.com.br/site/evento/ceiadosenhorout2020/
LOCATION:AD Valinhos\, Rua Vitória Colombo Rossi\, 208\, Valinhos\, São Paulo\, Brasil
CATEGORIES:eventos
END:VEVENT
BEGIN:VEVENT
DTSTART;TZID=America/Sao_Paulo:20200928T193000
DTEND;TZID=America/Sao_Paulo:20200928T210000
DTSTAMP:20260423T113836
CREATED:20200124T150237Z
LAST-MODIFIED:20200124T150237Z
UID:2721-1601321400-1601326800@www.advalinhos.com.br
SUMMARY:Culto Geral UFADEV
DESCRIPTION:Toda última segunda-feira do mês\, às 19:30hs
URL:https://www.advalinhos.com.br/site/evento/cultogeralufadevset2020/
LOCATION:AD Valinhos\, Rua Vitória Colombo Rossi\, 208\, Valinhos\, São Paulo\, Brasil
CATEGORIES:eventos
END:VEVENT
BEGIN:VEVENT
DTSTART;TZID=America/Sao_Paulo:20200928T193000
DTEND;TZID=America/Sao_Paulo:20200928T210000
DTSTAMP:20260423T113836
CREATED:20200124T144705Z
LAST-MODIFIED:20200124T144705Z
UID:2710-1601321400-1601326800@www.advalinhos.com.br
SUMMARY:Reunião de Obreiros
DESCRIPTION:Toda última segunda-feira do mês\, às 19:30hs
URL:https://www.advalinhos.com.br/site/evento/reuniaodeobreirosset2020/
LOCATION:AD Valinhos\, Rua Vitória Colombo Rossi\, 208\, Valinhos\, São Paulo\, Brasil
CATEGORIES:eventos
END:VEVENT
BEGIN:VEVENT
DTSTART;TZID=America/Sao_Paulo:20200926T190000
DTEND;TZID=America/Sao_Paulo:20200926T210000
DTSTAMP:20260423T113836
CREATED:20200124T142830Z
LAST-MODIFIED:20200124T142830Z
UID:2699-1601146800-1601154000@www.advalinhos.com.br
SUMMARY:Culto Geral UMADEV
DESCRIPTION:Todo 4º Sábado\, às 19:00hs
URL:https://www.advalinhos.com.br/site/evento/cultogeralumadevset2020/
LOCATION:AD Valinhos\, Rua Vitória Colombo Rossi\, 208\, Valinhos\, São Paulo\, Brasil
CATEGORIES:eventos
END:VEVENT
BEGIN:VEVENT
DTSTART;TZID=America/Sao_Paulo:20200912T190000
DTEND;TZID=America/Sao_Paulo:20200912T213000
DTSTAMP:20260423T113836
CREATED:20200124T135127Z
LAST-MODIFIED:20200124T135127Z
UID:2686-1599937200-1599946200@www.advalinhos.com.br
SUMMARY:Ceia do Senhor
DESCRIPTION:A nossa Ceia do Senhor acontece sempre no 2º Sábado\, às 19:00hs no Templo Sede.
URL:https://www.advalinhos.com.br/site/evento/ceiadosenhorset2020/
LOCATION:AD Valinhos\, Rua Vitória Colombo Rossi\, 208\, Valinhos\, São Paulo\, Brasil
CATEGORIES:eventos
END:VEVENT
BEGIN:VEVENT
DTSTART;TZID=America/Sao_Paulo:20200831T193000
DTEND;TZID=America/Sao_Paulo:20200831T210000
DTSTAMP:20260423T113836
CREATED:20200124T150114Z
LAST-MODIFIED:20200124T150114Z
UID:2720-1598902200-1598907600@www.advalinhos.com.br
SUMMARY:Culto Geral UFADEV
DESCRIPTION:Toda última segunda-feira do mês\, às 19:30hs
URL:https://www.advalinhos.com.br/site/evento/cultogeralufadevago2020/
LOCATION:AD Valinhos\, Rua Vitória Colombo Rossi\, 208\, Valinhos\, São Paulo\, Brasil
CATEGORIES:eventos
END:VEVENT
BEGIN:VEVENT
DTSTART;TZID=America/Sao_Paulo:20200831T193000
DTEND;TZID=America/Sao_Paulo:20200831T210000
DTSTAMP:20260423T113836
CREATED:20200124T144526Z
LAST-MODIFIED:20200124T144526Z
UID:2709-1598902200-1598907600@www.advalinhos.com.br
SUMMARY:Reunião de Obreiros
DESCRIPTION:Toda última segunda-feira do mês\, às 19:30hs
URL:https://www.advalinhos.com.br/site/evento/reuniaodeobreirosago2020/
LOCATION:AD Valinhos\, Rua Vitória Colombo Rossi\, 208\, Valinhos\, São Paulo\, Brasil
CATEGORIES:eventos
END:VEVENT
BEGIN:VEVENT
DTSTART;TZID=America/Sao_Paulo:20200822T190000
DTEND;TZID=America/Sao_Paulo:20200822T210000
DTSTAMP:20260423T113836
CREATED:20200124T142700Z
LAST-MODIFIED:20200124T142700Z
UID:2698-1598122800-1598130000@www.advalinhos.com.br
SUMMARY:Culto Geral UMADEV
DESCRIPTION:Todo 4º Sábado\, às 19:00hs
URL:https://www.advalinhos.com.br/site/evento/cultogeralumadevago2020/
LOCATION:AD Valinhos\, Rua Vitória Colombo Rossi\, 208\, Valinhos\, São Paulo\, Brasil
CATEGORIES:eventos
END:VEVENT
BEGIN:VEVENT
DTSTART;TZID=America/Sao_Paulo:20200808T190000
DTEND;TZID=America/Sao_Paulo:20200808T213000
DTSTAMP:20260423T113836
CREATED:20200124T134948Z
LAST-MODIFIED:20200124T134948Z
UID:2685-1596913200-1596922200@www.advalinhos.com.br
SUMMARY:Ceia do Senhor
DESCRIPTION:A nossa Ceia do Senhor acontece sempre no 2º Sábado\, às 19:00hs no Templo Sede.
URL:https://www.advalinhos.com.br/site/evento/ceiadosenhorago2020/
LOCATION:AD Valinhos\, Rua Vitória Colombo Rossi\, 208\, Valinhos\, São Paulo\, Brasil
CATEGORIES:eventos
END:VEVENT
BEGIN:VEVENT
DTSTART;TZID=America/Sao_Paulo:20200727T193000
DTEND;TZID=America/Sao_Paulo:20200727T210000
DTSTAMP:20260423T113836
CREATED:20200124T145943Z
LAST-MODIFIED:20200124T145943Z
UID:2719-1595878200-1595883600@www.advalinhos.com.br
SUMMARY:Culto Geral UFADEV
DESCRIPTION:Toda última segunda-feira do mês\, às 19:30hs
URL:https://www.advalinhos.com.br/site/evento/cultogeralufadevjul2020/
LOCATION:AD Valinhos\, Rua Vitória Colombo Rossi\, 208\, Valinhos\, São Paulo\, Brasil
CATEGORIES:eventos
END:VEVENT
BEGIN:VEVENT
DTSTART;TZID=America/Sao_Paulo:20200727T193000
DTEND;TZID=America/Sao_Paulo:20200727T210000
DTSTAMP:20260423T113836
CREATED:20200124T144358Z
LAST-MODIFIED:20200124T144358Z
UID:2708-1595878200-1595883600@www.advalinhos.com.br
SUMMARY:Reunião de Obreiros
DESCRIPTION:Toda última segunda-feira do mês\, às 19:30hs
URL:https://www.advalinhos.com.br/site/evento/reuniaodeobreirosjul2020/
LOCATION:AD Valinhos\, Rua Vitória Colombo Rossi\, 208\, Valinhos\, São Paulo\, Brasil
CATEGORIES:eventos
END:VEVENT
BEGIN:VEVENT
DTSTART;TZID=America/Sao_Paulo:20200711T190000
DTEND;TZID=America/Sao_Paulo:20200711T213000
DTSTAMP:20260423T113836
CREATED:20200124T134448Z
LAST-MODIFIED:20200124T134448Z
UID:2684-1594494000-1594503000@www.advalinhos.com.br
SUMMARY:Ceia do Senhor
DESCRIPTION:A nossa Ceia do Senhor acontece sempre no 2º Sábado\, às 19:00hs no Templo Sede.
URL:https://www.advalinhos.com.br/site/evento/ceiadosenhorjul2020/
LOCATION:AD Valinhos\, Rua Vitória Colombo Rossi\, 208\, Valinhos\, São Paulo\, Brasil
CATEGORIES:eventos
END:VEVENT
BEGIN:VEVENT
DTSTART;TZID=America/Sao_Paulo:20200629T193000
DTEND;TZID=America/Sao_Paulo:20200629T210000
DTSTAMP:20260423T113836
CREATED:20200124T145827Z
LAST-MODIFIED:20200124T145827Z
UID:2718-1593459000-1593464400@www.advalinhos.com.br
SUMMARY:Culto Geral UFADEV
DESCRIPTION:Toda última segunda-feira do mês\, às 19:30hs
URL:https://www.advalinhos.com.br/site/evento/cultogeralufadevjun2020/
LOCATION:AD Valinhos\, Rua Vitória Colombo Rossi\, 208\, Valinhos\, São Paulo\, Brasil
CATEGORIES:eventos
END:VEVENT
BEGIN:VEVENT
DTSTART;TZID=America/Sao_Paulo:20200629T193000
DTEND;TZID=America/Sao_Paulo:20200629T210000
DTSTAMP:20260423T113836
CREATED:20200124T144123Z
LAST-MODIFIED:20200124T144123Z
UID:2707-1593459000-1593464400@www.advalinhos.com.br
SUMMARY:Reunião de Obreiros
DESCRIPTION:Toda última segunda-feira do mês\, às 19:30hs
URL:https://www.advalinhos.com.br/site/evento/reuniaodeobreirosjun2020/
LOCATION:AD Valinhos\, Rua Vitória Colombo Rossi\, 208\, Valinhos\, São Paulo\, Brasil
CATEGORIES:eventos
END:VEVENT
BEGIN:VEVENT
DTSTART;TZID=America/Sao_Paulo:20200627T190000
DTEND;TZID=America/Sao_Paulo:20200627T210000
DTSTAMP:20260423T113836
CREATED:20200124T142454Z
LAST-MODIFIED:20200124T142454Z
UID:2697-1593284400-1593291600@www.advalinhos.com.br
SUMMARY:Culto Geral UMADEV
DESCRIPTION:Todo 4º Sábado\, às 19:00hs
URL:https://www.advalinhos.com.br/site/evento/cultogeralumadevjun2020/
LOCATION:AD Valinhos\, Rua Vitória Colombo Rossi\, 208\, Valinhos\, São Paulo\, Brasil
CATEGORIES:eventos
END:VEVENT
BEGIN:VEVENT
DTSTART;TZID=America/Sao_Paulo:20200613T190000
DTEND;TZID=America/Sao_Paulo:20200613T213000
DTSTAMP:20260423T113836
CREATED:20200124T134321Z
LAST-MODIFIED:20200124T134321Z
UID:2683-1592074800-1592083800@www.advalinhos.com.br
SUMMARY:Ceia do Senhor
DESCRIPTION:A nossa Ceia do Senhor acontece sempre no 2º Sábado\, às 19:00hs no Templo Sede.
URL:https://www.advalinhos.com.br/site/evento/ceiadosenhorjun2020/
LOCATION:AD Valinhos\, Rua Vitória Colombo Rossi\, 208\, Valinhos\, São Paulo\, Brasil
CATEGORIES:eventos
END:VEVENT
BEGIN:VEVENT
DTSTART;TZID=America/Sao_Paulo:20200607T090000
DTEND;TZID=America/Sao_Paulo:20200607T120000
DTSTAMP:20260423T113836
CREATED:20200124T141103Z
LAST-MODIFIED:20200124T141103Z
UID:2690-1591520400-1591531200@www.advalinhos.com.br
SUMMARY:Batismo
DESCRIPTION:“…sepultados com ele no batismo e com ele foram ressuscitados mediante a fé no poder de Deus…” Cl 2.12
URL:https://www.advalinhos.com.br/site/evento/batismojun2020/
LOCATION:AD Valinhos\, Rua Vitória Colombo Rossi\, 208\, Valinhos\, São Paulo\, Brasil
CATEGORIES:eventos
END:VEVENT
END:VCALENDAR